BEGIN:VCALENDAR
VERSION:2.0
PRODID:-//Maja Müller | Acting &amp; Yoga - ECPv6.15.14//NONSGML v1.0//EN
CALSCALE:GREGORIAN
METHOD:PUBLISH
X-WR-CALNAME:Maja Müller | Acting &amp; Yoga
X-ORIGINAL-URL:https://maja-mueller.com
X-WR-CALDESC:Veranstaltungen für Maja Müller | Acting &amp; Yoga
REFRESH-INTERVAL;VALUE=DURATION:PT1H
X-Robots-Tag:noindex
X-PUBLISHED-TTL:PT1H
BEGIN:VTIMEZONE
TZID:UTC
BEGIN:STANDARD
TZOFFSETFROM:+0000
TZOFFSETTO:+0000
TZNAME:UTC
DTSTART:20250101T000000
END:STANDARD
END:VTIMEZONE
BEGIN:VEVENT
DTSTART;TZID=UTC:20260120T083000
DTEND;TZID=UTC:20260120T090000
DTSTAMP:20260422T225129
CREATED:20260117T184505Z
LAST-MODIFIED:20260117T184514Z
UID:202-1768897800-1768899600@maja-mueller.com
SUMMARY:Early Bird Yoga im SteamWork
DESCRIPTION:lebendig und kraftvoll \nBei dieser Praxis liegt der Schwerpunkt darauf\, Körper und Geist mit Energie aufzuladen. Die Praxis wirkt aktivierend und energetisierend. Sie öffnet dein Herz und soll dir helfen\, dein volles Energiepotenzial zu nutzen. Dein Herz-Kreislauf-System wird angeregt\, damit du frisch in den Tag starten kannst. Für alle Yoga-Level geeignet. \nDiese muktimind Klasse findet in Kooperation mit SteamWork für die Coworker:innen und Teilnehmer:innen bei muktimind in den Coworking Räumen der Roonstr. 23a statt.
URL:https://maja-mueller.com/event/early-bird-yoga-im-steamwork/
LOCATION:SteamWork Karlsruhe\, Roonstraße 23 a\, Karlsruhe\, 76137\, Germany
CATEGORIES:Yoga Kurse
END:VEVENT
END:VCALENDAR